BEGIN:VCALENDAR
VERSION:2.0
PRODID:-//Freiwilige Feuerwehr Groß Grönau - ECPv6.15.20//NONSGML v1.0//EN
CALSCALE:GREGORIAN
METHOD:PUBLISH
X-ORIGINAL-URL:https://ff-grossgroenau.de
X-WR-CALDESC:Veranstaltungen für Freiwilige Feuerwehr Groß Grönau
REFRESH-INTERVAL;VALUE=DURATION:PT1H
X-Robots-Tag:noindex
X-PUBLISHED-TTL:PT1H
BEGIN:VTIMEZONE
TZID:Europe/Berlin
BEGIN:DAYLIGHT
TZOFFSETFROM:+0100
TZOFFSETTO:+0200
TZNAME:CEST
DTSTART:20250330T010000
END:DAYLIGHT
BEGIN:STANDARD
TZOFFSETFROM:+0200
TZOFFSETTO:+0100
TZNAME:CET
DTSTART:20251026T010000
END:STANDARD
BEGIN:DAYLIGHT
TZOFFSETFROM:+0100
TZOFFSETTO:+0200
TZNAME:CEST
DTSTART:20260329T010000
END:DAYLIGHT
BEGIN:STANDARD
TZOFFSETFROM:+0200
TZOFFSETTO:+0100
TZNAME:CET
DTSTART:20261025T010000
END:STANDARD
BEGIN:DAYLIGHT
TZOFFSETFROM:+0100
TZOFFSETTO:+0200
TZNAME:CEST
DTSTART:20270328T010000
END:DAYLIGHT
BEGIN:STANDARD
TZOFFSETFROM:+0200
TZOFFSETTO:+0100
TZNAME:CET
DTSTART:20271031T010000
END:STANDARD
BEGIN:DAYLIGHT
TZOFFSETFROM:+0100
TZOFFSETTO:+0200
TZNAME:CEST
DTSTART:20280326T010000
END:DAYLIGHT
BEGIN:STANDARD
TZOFFSETFROM:+0200
TZOFFSETTO:+0100
TZNAME:CET
DTSTART:20281029T010000
END:STANDARD
END:VTIMEZONE
BEGIN:VEVENT
DTSTART;TZID=Europe/Berlin:20260914T193000
DTEND;TZID=Europe/Berlin:20260914T220000
DTSTAMP:20260420T105447
CREATED:20260201T171027Z
LAST-MODIFIED:20260222T091304Z
UID:2250-1789414200-1789423200@ff-grossgroenau.de
SUMMARY:Ausbildungs-/ Übungsabend
DESCRIPTION:
URL:https://ff-grossgroenau.de/termin/ausbildungs-uebungsabend-70/
CATEGORIES:Dienst
ATTACH;FMTTYPE=image/jpeg:https://ff-grossgroenau.de/wp-content/uploads/2023/09/22-11-12-Wehr-a.jpg
END:VEVENT
BEGIN:VEVENT
DTSTART;TZID=Europe/Berlin:20260921T173000
DTEND;TZID=Europe/Berlin:20260921T191500
DTSTAMP:20260420T105447
CREATED:20260201T173009Z
LAST-MODIFIED:20260222T091314Z
UID:2339-1790011800-1790018100@ff-grossgroenau.de
SUMMARY:Jugendfeuerwehr Dienst
DESCRIPTION:
URL:https://ff-grossgroenau.de/termin/jugendfeuerwehr-dienst-96/
CATEGORIES:Dienst
ATTACH;FMTTYPE=image/jpeg:https://ff-grossgroenau.de/wp-content/uploads/2023/09/22-11-12-Wehr-a.jpg
END:VEVENT
BEGIN:VEVENT
DTSTART;TZID=Europe/Berlin:20260921T200000
DTEND;TZID=Europe/Berlin:20260921T220000
DTSTAMP:20260420T105447
CREATED:20260201T171620Z
LAST-MODIFIED:20260201T171622Z
UID:2299-1790020800-1790028000@ff-grossgroenau.de
SUMMARY:Vorstandssitzung
DESCRIPTION:
URL:https://ff-grossgroenau.de/termin/vorstandssitzung-7/
CATEGORIES:Vorstand
ATTACH;FMTTYPE=image/jpeg:https://ff-grossgroenau.de/wp-content/uploads/2023/09/22-11-12-Wehr-a.jpg
END:VEVENT
BEGIN:VEVENT
DTSTART;TZID=Europe/Berlin:20260928T173000
DTEND;TZID=Europe/Berlin:20260928T191500
DTSTAMP:20260420T105447
CREATED:20260201T173009Z
LAST-MODIFIED:20260222T091331Z
UID:2340-1790616600-1790622900@ff-grossgroenau.de
SUMMARY:Jugendfeuerwehr Dienst
DESCRIPTION:
URL:https://ff-grossgroenau.de/termin/jugendfeuerwehr-dienst-97/
CATEGORIES:Dienst
ATTACH;FMTTYPE=image/jpeg:https://ff-grossgroenau.de/wp-content/uploads/2023/09/22-11-12-Wehr-a.jpg
END:VEVENT
BEGIN:VEVENT
DTSTART;TZID=Europe/Berlin:20260928T200000
DTEND;TZID=Europe/Berlin:20260928T220000
DTSTAMP:20260420T105447
CREATED:20260201T171027Z
LAST-MODIFIED:20260222T091343Z
UID:2251-1790625600-1790632800@ff-grossgroenau.de
SUMMARY:Ausbildungs-/ Übungsabend
DESCRIPTION:
URL:https://ff-grossgroenau.de/termin/ausbildungs-uebungsabend-71/
CATEGORIES:Dienst
ATTACH;FMTTYPE=image/jpeg:https://ff-grossgroenau.de/wp-content/uploads/2023/09/22-11-12-Wehr-a.jpg
END:VEVENT
BEGIN:VEVENT
DTSTART;TZID=Europe/Berlin:20261002T173000
DTEND;TZID=Europe/Berlin:20261002T191500
DTSTAMP:20260420T105447
CREATED:20260201T173015Z
LAST-MODIFIED:20260222T091352Z
UID:2345-1790962200-1790968500@ff-grossgroenau.de
SUMMARY:Jugendfeuerwehr Dienst
DESCRIPTION:
URL:https://ff-grossgroenau.de/termin/jugendfeuerwehr-dienst-102/
CATEGORIES:Dienst
ATTACH;FMTTYPE=image/jpeg:https://ff-grossgroenau.de/wp-content/uploads/2023/09/22-11-12-Wehr-a.jpg
END:VEVENT
BEGIN:VEVENT
DTSTART;TZID=Europe/Berlin:20261005T173000
DTEND;TZID=Europe/Berlin:20261005T191500
DTSTAMP:20260420T105447
CREATED:20260201T173010Z
LAST-MODIFIED:20260222T091402Z
UID:2341-1791221400-1791227700@ff-grossgroenau.de
SUMMARY:Jugendfeuerwehr Dienst
DESCRIPTION:
URL:https://ff-grossgroenau.de/termin/jugendfeuerwehr-dienst-98/
CATEGORIES:Dienst
ATTACH;FMTTYPE=image/jpeg:https://ff-grossgroenau.de/wp-content/uploads/2023/09/22-11-12-Wehr-a.jpg
END:VEVENT
BEGIN:VEVENT
DTSTART;TZID=Europe/Berlin:20261005T200000
DTEND;TZID=Europe/Berlin:20261005T220000
DTSTAMP:20260420T105447
CREATED:20260201T171027Z
LAST-MODIFIED:20260222T091412Z
UID:2252-1791230400-1791237600@ff-grossgroenau.de
SUMMARY:Ausbildungs-/ Übungsabend
DESCRIPTION:
URL:https://ff-grossgroenau.de/termin/ausbildungs-uebungsabend-72/
CATEGORIES:Dienst
ATTACH;FMTTYPE=image/jpeg:https://ff-grossgroenau.de/wp-content/uploads/2023/09/22-11-12-Wehr-a.jpg
END:VEVENT
BEGIN:VEVENT
DTSTART;TZID=Europe/Berlin:20261012T173000
DTEND;TZID=Europe/Berlin:20261012T191500
DTSTAMP:20260420T105447
CREATED:20260201T173010Z
LAST-MODIFIED:20260222T091425Z
UID:2342-1791826200-1791832500@ff-grossgroenau.de
SUMMARY:Jugendfeuerwehr Dienst
DESCRIPTION:
URL:https://ff-grossgroenau.de/termin/jugendfeuerwehr-dienst-99/
CATEGORIES:Dienst
ATTACH;FMTTYPE=image/jpeg:https://ff-grossgroenau.de/wp-content/uploads/2023/09/22-11-12-Wehr-a.jpg
END:VEVENT
BEGIN:VEVENT
DTSTART;TZID=Europe/Berlin:20261012T200000
DTEND;TZID=Europe/Berlin:20261012T220000
DTSTAMP:20260420T105447
CREATED:20260201T171028Z
LAST-MODIFIED:20260222T091434Z
UID:2253-1791835200-1791842400@ff-grossgroenau.de
SUMMARY:Ausbildungs-/ Übungsabend
DESCRIPTION:
URL:https://ff-grossgroenau.de/termin/ausbildungs-uebungsabend-73/
CATEGORIES:Dienst
ATTACH;FMTTYPE=image/jpeg:https://ff-grossgroenau.de/wp-content/uploads/2023/09/22-11-12-Wehr-a.jpg
END:VEVENT
BEGIN:VEVENT
DTSTART;TZID=Europe/Berlin:20261019T173000
DTEND;TZID=Europe/Berlin:20261019T191500
DTSTAMP:20260420T105447
CREATED:20260201T173014Z
LAST-MODIFIED:20260222T091443Z
UID:2343-1792431000-1792437300@ff-grossgroenau.de
SUMMARY:Jugendfeuerwehr Dienst
DESCRIPTION:
URL:https://ff-grossgroenau.de/termin/jugendfeuerwehr-dienst-100/
CATEGORIES:Dienst
ATTACH;FMTTYPE=image/jpeg:https://ff-grossgroenau.de/wp-content/uploads/2023/09/22-11-12-Wehr-a.jpg
END:VEVENT
BEGIN:VEVENT
DTSTART;TZID=Europe/Berlin:20261026T173000
DTEND;TZID=Europe/Berlin:20261026T191500
DTSTAMP:20260420T105447
CREATED:20260201T173015Z
LAST-MODIFIED:20260222T091453Z
UID:2344-1793035800-1793042100@ff-grossgroenau.de
SUMMARY:Jugendfeuerwehr Dienst
DESCRIPTION:
URL:https://ff-grossgroenau.de/termin/jugendfeuerwehr-dienst-101/
CATEGORIES:Dienst
ATTACH;FMTTYPE=image/jpeg:https://ff-grossgroenau.de/wp-content/uploads/2023/09/22-11-12-Wehr-a.jpg
END:VEVENT
BEGIN:VEVENT
DTSTART;TZID=Europe/Berlin:20261026T200000
DTEND;TZID=Europe/Berlin:20261026T220000
DTSTAMP:20260420T105447
CREATED:20260201T171030Z
LAST-MODIFIED:20260222T091505Z
UID:2254-1793044800-1793052000@ff-grossgroenau.de
SUMMARY:Ausbildungs-/ Übungsabend
DESCRIPTION:
URL:https://ff-grossgroenau.de/termin/ausbildungs-uebungsabend-74/
CATEGORIES:Dienst
ATTACH;FMTTYPE=image/jpeg:https://ff-grossgroenau.de/wp-content/uploads/2023/09/22-11-12-Wehr-a.jpg
END:VEVENT
BEGIN:VEVENT
DTSTART;TZID=Europe/Berlin:20261102T173000
DTEND;TZID=Europe/Berlin:20261102T191500
DTSTAMP:20260420T105447
CREATED:20260222T091617Z
LAST-MODIFIED:20260222T092156Z
UID:2546-1793640600-1793646900@ff-grossgroenau.de
SUMMARY:Jugendfeuerwehr Dienst
DESCRIPTION:
URL:https://ff-grossgroenau.de/termin/jugendfeuerwehr-dienst-110/
CATEGORIES:Dienst
ATTACH;FMTTYPE=image/jpeg:https://ff-grossgroenau.de/wp-content/uploads/2023/09/22-11-12-Wehr-a.jpg
END:VEVENT
BEGIN:VEVENT
DTSTART;TZID=Europe/Berlin:20261102T220000
DTEND;TZID=Europe/Berlin:20261102T220000
DTSTAMP:20260420T105447
CREATED:20260201T171031Z
LAST-MODIFIED:20260222T090240Z
UID:2255-1793656800-1793656800@ff-grossgroenau.de
SUMMARY:Ausbildung ELW
DESCRIPTION:
URL:https://ff-grossgroenau.de/termin/ausbildung-elw-7/
CATEGORIES:Sonderdienst
ATTACH;FMTTYPE=image/jpeg:https://ff-grossgroenau.de/wp-content/uploads/2023/09/22-11-12-Wehr-a.jpg
END:VEVENT
BEGIN:VEVENT
DTSTART;TZID=Europe/Berlin:20261109T173000
DTEND;TZID=Europe/Berlin:20261109T191500
DTSTAMP:20260420T105447
CREATED:20260201T173015Z
LAST-MODIFIED:20260222T091722Z
UID:2346-1794245400-1794251700@ff-grossgroenau.de
SUMMARY:Jugendfeuerwehr Dienst
DESCRIPTION:
URL:https://ff-grossgroenau.de/termin/jugendfeuerwehr-dienst-103/
CATEGORIES:Dienst
ATTACH;FMTTYPE=image/jpeg:https://ff-grossgroenau.de/wp-content/uploads/2023/09/22-11-12-Wehr-a.jpg
END:VEVENT
BEGIN:VEVENT
DTSTART;TZID=Europe/Berlin:20261109T200000
DTEND;TZID=Europe/Berlin:20261109T220000
DTSTAMP:20260420T105447
CREATED:20260201T171031Z
LAST-MODIFIED:20260222T091737Z
UID:2256-1794254400-1794261600@ff-grossgroenau.de
SUMMARY:Ausbildungs-/ Übungsabend
DESCRIPTION:
URL:https://ff-grossgroenau.de/termin/ausbildungs-uebungsabend-75/
CATEGORIES:Dienst
ATTACH;FMTTYPE=image/jpeg:https://ff-grossgroenau.de/wp-content/uploads/2023/09/22-11-12-Wehr-a.jpg
END:VEVENT
BEGIN:VEVENT
DTSTART;TZID=Europe/Berlin:20261116T173000
DTEND;TZID=Europe/Berlin:20261116T191500
DTSTAMP:20260420T105447
CREATED:20260201T173016Z
LAST-MODIFIED:20260222T091747Z
UID:2347-1794850200-1794856500@ff-grossgroenau.de
SUMMARY:Jugendfeuerwehr Dienst
DESCRIPTION:
URL:https://ff-grossgroenau.de/termin/jugendfeuerwehr-dienst-104/
CATEGORIES:Dienst
ATTACH;FMTTYPE=image/jpeg:https://ff-grossgroenau.de/wp-content/uploads/2023/09/22-11-12-Wehr-a.jpg
END:VEVENT
BEGIN:VEVENT
DTSTART;TZID=Europe/Berlin:20261123T173000
DTEND;TZID=Europe/Berlin:20261123T191500
DTSTAMP:20260420T105447
CREATED:20260201T173019Z
LAST-MODIFIED:20260222T091758Z
UID:2348-1795455000-1795461300@ff-grossgroenau.de
SUMMARY:Jugendfeuerwehr Dienst
DESCRIPTION:
URL:https://ff-grossgroenau.de/termin/jugendfeuerwehr-dienst-105/
CATEGORIES:Dienst
ATTACH;FMTTYPE=image/jpeg:https://ff-grossgroenau.de/wp-content/uploads/2023/09/22-11-12-Wehr-a.jpg
END:VEVENT
BEGIN:VEVENT
DTSTART;TZID=Europe/Berlin:20261123T200000
DTEND;TZID=Europe/Berlin:20261123T220000
DTSTAMP:20260420T105447
CREATED:20260201T171031Z
LAST-MODIFIED:20260222T091808Z
UID:2257-1795464000-1795471200@ff-grossgroenau.de
SUMMARY:Ausbildungs-/ Übungsabend
DESCRIPTION:
URL:https://ff-grossgroenau.de/termin/ausbildungs-uebungsabend-76/
CATEGORIES:Dienst
ATTACH;FMTTYPE=image/jpeg:https://ff-grossgroenau.de/wp-content/uploads/2023/09/22-11-12-Wehr-a.jpg
END:VEVENT
BEGIN:VEVENT
DTSTART;TZID=Europe/Berlin:20261130T173000
DTEND;TZID=Europe/Berlin:20261130T191500
DTSTAMP:20260420T105447
CREATED:20260201T173020Z
LAST-MODIFIED:20260222T091817Z
UID:2349-1796059800-1796066100@ff-grossgroenau.de
SUMMARY:Jugendfeuerwehr Dienst
DESCRIPTION:
URL:https://ff-grossgroenau.de/termin/jugendfeuerwehr-dienst-106/
CATEGORIES:Dienst
ATTACH;FMTTYPE=image/jpeg:https://ff-grossgroenau.de/wp-content/uploads/2023/09/22-11-12-Wehr-a.jpg
END:VEVENT
BEGIN:VEVENT
DTSTART;TZID=Europe/Berlin:20261207T173000
DTEND;TZID=Europe/Berlin:20261207T191500
DTSTAMP:20260420T105447
CREATED:20260201T173020Z
LAST-MODIFIED:20260222T091826Z
UID:2350-1796664600-1796670900@ff-grossgroenau.de
SUMMARY:Jugendfeuerwehr Dienst
DESCRIPTION:
URL:https://ff-grossgroenau.de/termin/jugendfeuerwehr-dienst-107/
CATEGORIES:Dienst
ATTACH;FMTTYPE=image/jpeg:https://ff-grossgroenau.de/wp-content/uploads/2023/09/22-11-12-Wehr-a.jpg
END:VEVENT
BEGIN:VEVENT
DTSTART;TZID=Europe/Berlin:20261207T193000
DTEND;TZID=Europe/Berlin:20261207T220000
DTSTAMP:20260420T105447
CREATED:20260201T171032Z
LAST-MODIFIED:20260222T091843Z
UID:2258-1796671800-1796680800@ff-grossgroenau.de
SUMMARY:Ausbildungs-/ Übungsabend
DESCRIPTION:
URL:https://ff-grossgroenau.de/termin/ausbildungs-uebungsabend-77/
CATEGORIES:Dienst
ATTACH;FMTTYPE=image/jpeg:https://ff-grossgroenau.de/wp-content/uploads/2023/09/22-11-12-Wehr-a.jpg
END:VEVENT
BEGIN:VEVENT
DTSTART;TZID=Europe/Berlin:20261214T173000
DTEND;TZID=Europe/Berlin:20261214T191500
DTSTAMP:20260420T105447
CREATED:20260201T173021Z
LAST-MODIFIED:20260222T091854Z
UID:2351-1797269400-1797275700@ff-grossgroenau.de
SUMMARY:Jugendfeuerwehr Dienst
DESCRIPTION:
URL:https://ff-grossgroenau.de/termin/jugendfeuerwehr-dienst-108/
CATEGORIES:Dienst
ATTACH;FMTTYPE=image/jpeg:https://ff-grossgroenau.de/wp-content/uploads/2023/09/22-11-12-Wehr-a.jpg
END:VEVENT
BEGIN:VEVENT
DTSTART;TZID=Europe/Berlin:20261221T173000
DTEND;TZID=Europe/Berlin:20261221T191500
DTSTAMP:20260420T105447
CREATED:20260201T173021Z
LAST-MODIFIED:20260222T091905Z
UID:2352-1797874200-1797880500@ff-grossgroenau.de
SUMMARY:Jugendfeuerwehr Dienst
DESCRIPTION:
URL:https://ff-grossgroenau.de/termin/jugendfeuerwehr-dienst-109/
CATEGORIES:Dienst
ATTACH;FMTTYPE=image/jpeg:https://ff-grossgroenau.de/wp-content/uploads/2023/09/22-11-12-Wehr-a.jpg
END:VEVENT
BEGIN:VEVENT
DTSTART;TZID=Europe/Berlin:20261227T163000
DTEND;TZID=Europe/Berlin:20261227T220000
DTSTAMP:20260420T105447
CREATED:20260201T171905Z
LAST-MODIFIED:20260201T171907Z
UID:2304-1798389000-1798408800@ff-grossgroenau.de
SUMMARY:Weihnachtsschießen
DESCRIPTION:
URL:https://ff-grossgroenau.de/termin/weihnachtsschiessen-2/
CATEGORIES:Veranstaltung
ATTACH;FMTTYPE=image/jpeg:https://ff-grossgroenau.de/wp-content/uploads/2023/09/22-11-12-Wehr-a.jpg
END:VEVENT
BEGIN:VEVENT
DTSTART;TZID=Europe/Berlin:20270104T200000
DTEND;TZID=Europe/Berlin:20270104T220000
DTSTAMP:20260420T105447
CREATED:20260201T171045Z
LAST-MODIFIED:20260222T091923Z
UID:2260-1799092800-1799100000@ff-grossgroenau.de
SUMMARY:Treffen im Gerätehaus
DESCRIPTION:
URL:https://ff-grossgroenau.de/termin/ausbildungs-uebungsabend-78/
CATEGORIES:Dienst
ATTACH;FMTTYPE=image/jpeg:https://ff-grossgroenau.de/wp-content/uploads/2023/09/22-11-12-Wehr-a.jpg
END:VEVENT
BEGIN:VEVENT
DTSTART;TZID=Europe/Berlin:20270107T200000
DTEND;TZID=Europe/Berlin:20270107T220000
DTSTAMP:20260420T105447
CREATED:20260201T171705Z
LAST-MODIFIED:20260201T171706Z
UID:2301-1799352000-1799359200@ff-grossgroenau.de
SUMMARY:Vorstandssitzung
DESCRIPTION:
URL:https://ff-grossgroenau.de/termin/vorstandssitzung-8/
CATEGORIES:Vorstand
ATTACH;FMTTYPE=image/jpeg:https://ff-grossgroenau.de/wp-content/uploads/2023/09/22-11-12-Wehr-a.jpg
END:VEVENT
BEGIN:VEVENT
DTSTART;TZID=Europe/Berlin:20270208T200000
DTEND;TZID=Europe/Berlin:20270208T220000
DTSTAMP:20260420T105447
CREATED:20260201T171046Z
LAST-MODIFIED:20260222T092053Z
UID:2263-1802116800-1802124000@ff-grossgroenau.de
SUMMARY:Sicherheitsunterweisung
DESCRIPTION:
URL:https://ff-grossgroenau.de/termin/ausbildungs-uebungsabend-80/
CATEGORIES:Dienst
ATTACH;FMTTYPE=image/jpeg:https://ff-grossgroenau.de/wp-content/uploads/2023/09/22-11-12-Wehr-a.jpg
END:VEVENT
END:VCALENDAR