BEGIN:VCALENDAR
VERSION:2.0
PRODID:-//Freiwilige Feuerwehr Groß Grönau - ECPv6.15.20//NONSGML v1.0//EN
CALSCALE:GREGORIAN
METHOD:PUBLISH
X-WR-CALNAME:Freiwilige Feuerwehr Groß Grönau
X-ORIGINAL-URL:https://ff-grossgroenau.de
X-WR-CALDESC:Veranstaltungen für Freiwilige Feuerwehr Groß Grönau
REFRESH-INTERVAL;VALUE=DURATION:PT1H
X-Robots-Tag:noindex
X-PUBLISHED-TTL:PT1H
BEGIN:VTIMEZONE
TZID:Europe/Berlin
BEGIN:DAYLIGHT
TZOFFSETFROM:+0100
TZOFFSETTO:+0200
TZNAME:CEST
DTSTART:20240331T010000
END:DAYLIGHT
BEGIN:STANDARD
TZOFFSETFROM:+0200
TZOFFSETTO:+0100
TZNAME:CET
DTSTART:20241027T010000
END:STANDARD
BEGIN:DAYLIGHT
TZOFFSETFROM:+0100
TZOFFSETTO:+0200
TZNAME:CEST
DTSTART:20250330T010000
END:DAYLIGHT
BEGIN:STANDARD
TZOFFSETFROM:+0200
TZOFFSETTO:+0100
TZNAME:CET
DTSTART:20251026T010000
END:STANDARD
BEGIN:DAYLIGHT
TZOFFSETFROM:+0100
TZOFFSETTO:+0200
TZNAME:CEST
DTSTART:20260329T010000
END:DAYLIGHT
BEGIN:STANDARD
TZOFFSETFROM:+0200
TZOFFSETTO:+0100
TZNAME:CET
DTSTART:20261025T010000
END:STANDARD
END:VTIMEZONE
BEGIN:VEVENT
DTSTART;TZID=Europe/Berlin:20251006T173000
DTEND;TZID=Europe/Berlin:20251006T193000
DTSTAMP:20260420T193313
CREATED:20250111T102924Z
LAST-MODIFIED:20250111T103758Z
UID:1758-1759771800-1759779000@ff-grossgroenau.de
SUMMARY:Jugendfeuerwehr Dienst
DESCRIPTION:
URL:https://ff-grossgroenau.de/termin/jugendfeuerwehr-dienst-47/
LOCATION:Feuerwehrhaus Groß Grönau\, Am Born 2\, Groß Grönau\, Schleswig-Holstein\, 23627\, Deutschland
CATEGORIES:Dienst
ATTACH;FMTTYPE=image/jpeg:https://ff-grossgroenau.de/wp-content/uploads/2023/09/22-11-12-Wehr-a.jpg
END:VEVENT
BEGIN:VEVENT
DTSTART;TZID=Europe/Berlin:20251006T200000
DTEND;TZID=Europe/Berlin:20251006T220000
DTSTAMP:20260420T193313
CREATED:20250121T200027Z
LAST-MODIFIED:20260201T173144Z
UID:1865-1759780800-1759788000@ff-grossgroenau.de
SUMMARY:Vorstandssitzung
DESCRIPTION:
URL:https://ff-grossgroenau.de/termin/vorstandssitzung-3/
LOCATION:Feuerwehrhaus Groß Grönau\, Am Born 2\, Groß Grönau\, Schleswig-Holstein\, 23627\, Deutschland
CATEGORIES:Vorstand
ATTACH;FMTTYPE=image/jpeg:https://ff-grossgroenau.de/wp-content/uploads/2023/09/22-11-12-Wehr-a.jpg
END:VEVENT
BEGIN:VEVENT
DTSTART;TZID=Europe/Berlin:20251013T173000
DTEND;TZID=Europe/Berlin:20251013T193000
DTSTAMP:20260420T193313
CREATED:20250111T102924Z
LAST-MODIFIED:20250111T103758Z
UID:1759-1760376600-1760383800@ff-grossgroenau.de
SUMMARY:Jugendfeuerwehr Dienst
DESCRIPTION:
URL:https://ff-grossgroenau.de/termin/jugendfeuerwehr-dienst-48/
LOCATION:Feuerwehrhaus Groß Grönau\, Am Born 2\, Groß Grönau\, Schleswig-Holstein\, 23627\, Deutschland
CATEGORIES:Dienst
ATTACH;FMTTYPE=image/jpeg:https://ff-grossgroenau.de/wp-content/uploads/2023/09/22-11-12-Wehr-a.jpg
END:VEVENT
BEGIN:VEVENT
DTSTART;TZID=Europe/Berlin:20251013T200000
DTEND;TZID=Europe/Berlin:20251013T220000
DTSTAMP:20260420T193313
CREATED:20250121T200027Z
LAST-MODIFIED:20250121T200506Z
UID:1866-1760385600-1760392800@ff-grossgroenau.de
SUMMARY:Ausbildungs- / Übungsabend
DESCRIPTION:
URL:https://ff-grossgroenau.de/termin/ausbildungs-uebungsabend-50/
LOCATION:Feuerwehrhaus Groß Grönau\, Am Born 2\, Groß Grönau\, Schleswig-Holstein\, 23627\, Deutschland
CATEGORIES:Dienst
ATTACH;FMTTYPE=image/jpeg:https://ff-grossgroenau.de/wp-content/uploads/2023/09/22-11-12-Wehr-a.jpg
END:VEVENT
BEGIN:VEVENT
DTSTART;TZID=Europe/Berlin:20251018T093000
DTEND;TZID=Europe/Berlin:20251019T150000
DTSTAMP:20260420T193313
CREATED:20250113T111821Z
LAST-MODIFIED:20250121T201907Z
UID:1811-1760779800-1760886000@ff-grossgroenau.de
SUMMARY:Berufsfeuerwehrwochenende
DESCRIPTION:
URL:https://ff-grossgroenau.de/termin/berufsfeuerwehrwochenende-2/
CATEGORIES:Sonderdienst,Veranstaltung
ATTACH;FMTTYPE=image/jpeg:https://ff-grossgroenau.de/wp-content/uploads/2023/09/22-11-12-Wehr-a.jpg
END:VEVENT
BEGIN:VEVENT
DTSTART;TZID=Europe/Berlin:20251020T173000
DTEND;TZID=Europe/Berlin:20251020T193000
DTSTAMP:20260420T193313
CREATED:20250111T102925Z
LAST-MODIFIED:20250111T103758Z
UID:1760-1760981400-1760988600@ff-grossgroenau.de
SUMMARY:Jugendfeuerwehr Dienst
DESCRIPTION:
URL:https://ff-grossgroenau.de/termin/jugendfeuerwehr-dienst-49/
LOCATION:Feuerwehrhaus Groß Grönau\, Am Born 2\, Groß Grönau\, Schleswig-Holstein\, 23627\, Deutschland
CATEGORIES:Dienst
ATTACH;FMTTYPE=image/jpeg:https://ff-grossgroenau.de/wp-content/uploads/2023/09/22-11-12-Wehr-a.jpg
END:VEVENT
BEGIN:VEVENT
DTSTART;TZID=Europe/Berlin:20251027T173000
DTEND;TZID=Europe/Berlin:20251027T193000
DTSTAMP:20260420T193313
CREATED:20250111T102120Z
LAST-MODIFIED:20250111T103758Z
UID:1715-1761586200-1761593400@ff-grossgroenau.de
SUMMARY:Jugendfeuerwehr Dienst
DESCRIPTION:
URL:https://ff-grossgroenau.de/termin/jugendfeuerwehr-dienst-36/
LOCATION:Feuerwehrhaus Groß Grönau\, Am Born 2\, Groß Grönau\, Schleswig-Holstein\, 23627\, Deutschland
CATEGORIES:Dienst
ATTACH;FMTTYPE=image/jpeg:https://ff-grossgroenau.de/wp-content/uploads/2023/09/22-11-12-Wehr-a.jpg
END:VEVENT
BEGIN:VEVENT
DTSTART;TZID=Europe/Berlin:20251027T200000
DTEND;TZID=Europe/Berlin:20251027T220000
DTSTAMP:20260420T193313
CREATED:20250121T200027Z
LAST-MODIFIED:20250121T200506Z
UID:1867-1761595200-1761602400@ff-grossgroenau.de
SUMMARY:Ausbildungs- / Übungsabend
DESCRIPTION:
URL:https://ff-grossgroenau.de/termin/ausbildungs-uebungsabend-51/
LOCATION:Feuerwehrhaus Groß Grönau\, Am Born 2\, Groß Grönau\, Schleswig-Holstein\, 23627\, Deutschland
CATEGORIES:Dienst
ATTACH;FMTTYPE=image/jpeg:https://ff-grossgroenau.de/wp-content/uploads/2023/09/22-11-12-Wehr-a.jpg
END:VEVENT
END:VCALENDAR