BEGIN:VCALENDAR
VERSION:2.0
PRODID:-//Freiwilige Feuerwehr Groß Grönau - ECPv6.15.20//NONSGML v1.0//EN
CALSCALE:GREGORIAN
METHOD:PUBLISH
X-ORIGINAL-URL:https://ff-grossgroenau.de
X-WR-CALDESC:Veranstaltungen für Freiwilige Feuerwehr Groß Grönau
REFRESH-INTERVAL;VALUE=DURATION:PT1H
X-Robots-Tag:noindex
X-PUBLISHED-TTL:PT1H
BEGIN:VTIMEZONE
TZID:Europe/Berlin
BEGIN:DAYLIGHT
TZOFFSETFROM:+0100
TZOFFSETTO:+0200
TZNAME:CEST
DTSTART:20240331T010000
END:DAYLIGHT
BEGIN:STANDARD
TZOFFSETFROM:+0200
TZOFFSETTO:+0100
TZNAME:CET
DTSTART:20241027T010000
END:STANDARD
BEGIN:DAYLIGHT
TZOFFSETFROM:+0100
TZOFFSETTO:+0200
TZNAME:CEST
DTSTART:20250330T010000
END:DAYLIGHT
BEGIN:STANDARD
TZOFFSETFROM:+0200
TZOFFSETTO:+0100
TZNAME:CET
DTSTART:20251026T010000
END:STANDARD
BEGIN:DAYLIGHT
TZOFFSETFROM:+0100
TZOFFSETTO:+0200
TZNAME:CEST
DTSTART:20260329T010000
END:DAYLIGHT
BEGIN:STANDARD
TZOFFSETFROM:+0200
TZOFFSETTO:+0100
TZNAME:CET
DTSTART:20261025T010000
END:STANDARD
END:VTIMEZONE
BEGIN:VEVENT
DTSTART;TZID=Europe/Berlin:20251201T173000
DTEND;TZID=Europe/Berlin:20251201T193000
DTSTAMP:20260420T165458
CREATED:20250111T103619Z
LAST-MODIFIED:20250111T103758Z
UID:1774-1764610200-1764617400@ff-grossgroenau.de
SUMMARY:Jugendfeuerwehr Dienst
DESCRIPTION:
URL:https://ff-grossgroenau.de/termin/jugendfeuerwehr-dienst-60/
LOCATION:Feuerwehrhaus Groß Grönau\, Am Born 2\, Groß Grönau\, Schleswig-Holstein\, 23627\, Deutschland
CATEGORIES:Dienst
ATTACH;FMTTYPE=image/jpeg:https://ff-grossgroenau.de/wp-content/uploads/2023/09/22-11-12-Wehr-a.jpg
END:VEVENT
BEGIN:VEVENT
DTSTART;TZID=Europe/Berlin:20251208T173000
DTEND;TZID=Europe/Berlin:20251208T193000
DTSTAMP:20260420T165458
CREATED:20250111T102939Z
LAST-MODIFIED:20250111T103757Z
UID:1761-1765215000-1765222200@ff-grossgroenau.de
SUMMARY:Jugendfeuerwehr Dienst
DESCRIPTION:
URL:https://ff-grossgroenau.de/termin/jugendfeuerwehr-dienst-50/
LOCATION:Feuerwehrhaus Groß Grönau\, Am Born 2\, Groß Grönau\, Schleswig-Holstein\, 23627\, Deutschland
CATEGORIES:Dienst
ATTACH;FMTTYPE=image/jpeg:https://ff-grossgroenau.de/wp-content/uploads/2023/09/22-11-12-Wehr-a.jpg
END:VEVENT
BEGIN:VEVENT
DTSTART;TZID=Europe/Berlin:20251208T193000
DTEND;TZID=Europe/Berlin:20251208T220000
DTSTAMP:20260420T165458
CREATED:20250121T200042Z
LAST-MODIFIED:20250121T200506Z
UID:1871-1765222200-1765231200@ff-grossgroenau.de
SUMMARY:Ausbildungs- / Übungsabend
DESCRIPTION:
URL:https://ff-grossgroenau.de/termin/ausbildungs-uebungsabend-54/
LOCATION:Feuerwehrhaus Groß Grönau\, Am Born 2\, Groß Grönau\, Schleswig-Holstein\, 23627\, Deutschland
CATEGORIES:Dienst
ATTACH;FMTTYPE=image/jpeg:https://ff-grossgroenau.de/wp-content/uploads/2023/09/22-11-12-Wehr-a.jpg
END:VEVENT
BEGIN:VEVENT
DTSTART;TZID=Europe/Berlin:20251215T173000
DTEND;TZID=Europe/Berlin:20251215T193000
DTSTAMP:20260420T165458
CREATED:20250111T102940Z
LAST-MODIFIED:20250111T103757Z
UID:1762-1765819800-1765827000@ff-grossgroenau.de
SUMMARY:Jugendfeuerwehr Dienst
DESCRIPTION:
URL:https://ff-grossgroenau.de/termin/jugendfeuerwehr-dienst-51/
LOCATION:Feuerwehrhaus Groß Grönau\, Am Born 2\, Groß Grönau\, Schleswig-Holstein\, 23627\, Deutschland
CATEGORIES:Dienst
ATTACH;FMTTYPE=image/jpeg:https://ff-grossgroenau.de/wp-content/uploads/2023/09/22-11-12-Wehr-a.jpg
END:VEVENT
END:VCALENDAR