BEGIN:VCALENDAR
VERSION:2.0
PRODID:-//Freiwilige Feuerwehr Groß Grönau - ECPv6.15.20//NONSGML v1.0//EN
CALSCALE:GREGORIAN
METHOD:PUBLISH
X-ORIGINAL-URL:https://ff-grossgroenau.de
X-WR-CALDESC:Veranstaltungen für Freiwilige Feuerwehr Groß Grönau
REFRESH-INTERVAL;VALUE=DURATION:PT1H
X-Robots-Tag:noindex
X-PUBLISHED-TTL:PT1H
BEGIN:VTIMEZONE
TZID:Europe/Berlin
BEGIN:DAYLIGHT
TZOFFSETFROM:+0100
TZOFFSETTO:+0200
TZNAME:CEST
DTSTART:20230326T010000
END:DAYLIGHT
BEGIN:STANDARD
TZOFFSETFROM:+0200
TZOFFSETTO:+0100
TZNAME:CET
DTSTART:20231029T010000
END:STANDARD
BEGIN:DAYLIGHT
TZOFFSETFROM:+0100
TZOFFSETTO:+0200
TZNAME:CEST
DTSTART:20240331T010000
END:DAYLIGHT
BEGIN:STANDARD
TZOFFSETFROM:+0200
TZOFFSETTO:+0100
TZNAME:CET
DTSTART:20241027T010000
END:STANDARD
BEGIN:DAYLIGHT
TZOFFSETFROM:+0100
TZOFFSETTO:+0200
TZNAME:CEST
DTSTART:20250330T010000
END:DAYLIGHT
BEGIN:STANDARD
TZOFFSETFROM:+0200
TZOFFSETTO:+0100
TZNAME:CET
DTSTART:20251026T010000
END:STANDARD
END:VTIMEZONE
BEGIN:VEVENT
DTSTART;TZID=Europe/Berlin:20240902T200000
DTEND;TZID=Europe/Berlin:20240902T220000
DTSTAMP:20260422T110751
CREATED:20240725T134935Z
LAST-MODIFIED:20250121T201847Z
UID:967-1725307200-1725314400@ff-grossgroenau.de
SUMMARY:Ausbildungsabend Atemschutz
DESCRIPTION:
URL:https://ff-grossgroenau.de/termin/ausbildungs-uebungsabend-25/
CATEGORIES:Sonderdienst
ATTACH;FMTTYPE=image/jpeg:https://ff-grossgroenau.de/wp-content/uploads/2023/09/22-11-12-Wehr-a.jpg
END:VEVENT
BEGIN:VEVENT
DTSTART;TZID=Europe/Berlin:20240909T193000
DTEND;TZID=Europe/Berlin:20240909T220000
DTSTAMP:20260422T110751
CREATED:20240725T135200Z
LAST-MODIFIED:20240725T140343Z
UID:971-1725910200-1725919200@ff-grossgroenau.de
SUMMARY:Ausbildungs- / Übungsabend
DESCRIPTION:
URL:https://ff-grossgroenau.de/termin/ausbildungs-uebungsabend-26/
CATEGORIES:Dienst
ATTACH;FMTTYPE=image/jpeg:https://ff-grossgroenau.de/wp-content/uploads/2023/09/22-11-12-Wehr-a.jpg
END:VEVENT
BEGIN:VEVENT
DTSTART;TZID=Europe/Berlin:20240914T140000
DTEND;TZID=Europe/Berlin:20240914T200000
DTSTAMP:20260422T110751
CREATED:20240725T135241Z
LAST-MODIFIED:20240804T170701Z
UID:973-1726322400-1726344000@ff-grossgroenau.de
SUMMARY:120-Jahre Fest Grönau Halle
DESCRIPTION:
URL:https://ff-grossgroenau.de/termin/120-jahre-fest-groenau-halle/
CATEGORIES:Veranstaltung
ATTACH;FMTTYPE=image/png:https://ff-grossgroenau.de/wp-content/uploads/2024/07/sommerfest.png
END:VEVENT
BEGIN:VEVENT
DTSTART;TZID=Europe/Berlin:20240921T080000
DTEND;TZID=Europe/Berlin:20240921T160000
DTSTAMP:20260422T110751
CREATED:20240725T135321Z
LAST-MODIFIED:20240725T140245Z
UID:975-1726905600-1726934400@ff-grossgroenau.de
SUMMARY:Ausbildungstag am Oxer
DESCRIPTION:
URL:https://ff-grossgroenau.de/termin/ausbildungstag-am-oxer/
CATEGORIES:Dienst,Veranstaltung
ATTACH;FMTTYPE=image/jpeg:https://ff-grossgroenau.de/wp-content/uploads/2023/09/22-11-12-Wehr-a.jpg
END:VEVENT
BEGIN:VEVENT
DTSTART;TZID=Europe/Berlin:20240923T200000
DTEND;TZID=Europe/Berlin:20240923T220000
DTSTAMP:20260422T110751
CREATED:20240725T135341Z
LAST-MODIFIED:20240725T140353Z
UID:977-1727121600-1727128800@ff-grossgroenau.de
SUMMARY:Ausbildungs- / Übungsabend
DESCRIPTION:
URL:https://ff-grossgroenau.de/termin/ausbildungs-uebungsabend-27/
CATEGORIES:Dienst
ATTACH;FMTTYPE=image/jpeg:https://ff-grossgroenau.de/wp-content/uploads/2023/09/22-11-12-Wehr-a.jpg
END:VEVENT
END:VCALENDAR