BEGIN:VCALENDAR
VERSION:2.0
PRODID:-//Freiwilige Feuerwehr Groß Grönau - ECPv6.15.20//NONSGML v1.0//EN
CALSCALE:GREGORIAN
METHOD:PUBLISH
X-ORIGINAL-URL:https://ff-grossgroenau.de
X-WR-CALDESC:Veranstaltungen für Freiwilige Feuerwehr Groß Grönau
REFRESH-INTERVAL;VALUE=DURATION:PT1H
X-Robots-Tag:noindex
X-PUBLISHED-TTL:PT1H
BEGIN:VTIMEZONE
TZID:Europe/Berlin
BEGIN:DAYLIGHT
TZOFFSETFROM:+0100
TZOFFSETTO:+0200
TZNAME:CEST
DTSTART:20240331T010000
END:DAYLIGHT
BEGIN:STANDARD
TZOFFSETFROM:+0200
TZOFFSETTO:+0100
TZNAME:CET
DTSTART:20241027T010000
END:STANDARD
BEGIN:DAYLIGHT
TZOFFSETFROM:+0100
TZOFFSETTO:+0200
TZNAME:CEST
DTSTART:20250330T010000
END:DAYLIGHT
BEGIN:STANDARD
TZOFFSETFROM:+0200
TZOFFSETTO:+0100
TZNAME:CET
DTSTART:20251026T010000
END:STANDARD
BEGIN:DAYLIGHT
TZOFFSETFROM:+0100
TZOFFSETTO:+0200
TZNAME:CEST
DTSTART:20260329T010000
END:DAYLIGHT
BEGIN:STANDARD
TZOFFSETFROM:+0200
TZOFFSETTO:+0100
TZNAME:CET
DTSTART:20261025T010000
END:STANDARD
END:VTIMEZONE
BEGIN:VEVENT
DTSTART;TZID=Europe/Berlin:20250614T100000
DTEND;TZID=Europe/Berlin:20250614T180000
DTSTAMP:20260421T230433
CREATED:20250121T195920Z
LAST-MODIFIED:20250121T200550Z
UID:1850-1749895200-1749924000@ff-grossgroenau.de
SUMMARY:Floriansfahrt
DESCRIPTION:
URL:https://ff-grossgroenau.de/termin/floriansfahrt/
LOCATION:Feuerwehrhaus Groß Grönau\, Am Born 2\, Groß Grönau\, Schleswig-Holstein\, 23627\, Deutschland
CATEGORIES:Veranstaltung,Wettkampf
ATTACH;FMTTYPE=image/jpeg:https://ff-grossgroenau.de/wp-content/uploads/2023/09/22-11-12-Wehr-a.jpg
END:VEVENT
BEGIN:VEVENT
DTSTART;TZID=Europe/Berlin:20250616T200000
DTEND;TZID=Europe/Berlin:20250616T220000
DTSTAMP:20260421T230433
CREATED:20250121T195921Z
LAST-MODIFIED:20250121T200801Z
UID:1851-1750104000-1750111200@ff-grossgroenau.de
SUMMARY:Ausbildungsabend Atemschutz
DESCRIPTION:
URL:https://ff-grossgroenau.de/termin/ausbildungsabend-atemschutz-3/
LOCATION:Feuerwehrhaus Groß Grönau\, Am Born 2\, Groß Grönau\, Schleswig-Holstein\, 23627\, Deutschland
CATEGORIES:Sonderdienst
ATTACH;FMTTYPE=image/jpeg:https://ff-grossgroenau.de/wp-content/uploads/2023/09/22-11-12-Wehr-a.jpg
END:VEVENT
BEGIN:VEVENT
DTSTART;TZID=Europe/Berlin:20250623T200000
DTEND;TZID=Europe/Berlin:20250623T220000
DTSTAMP:20260421T230433
CREATED:20250121T195921Z
LAST-MODIFIED:20250121T200506Z
UID:1852-1750708800-1750716000@ff-grossgroenau.de
SUMMARY:Ausbildungs- / Übungsabend
DESCRIPTION:
URL:https://ff-grossgroenau.de/termin/ausbildungs-uebungsabend-42/
LOCATION:Feuerwehrhaus Groß Grönau\, Am Born 2\, Groß Grönau\, Schleswig-Holstein\, 23627\, Deutschland
CATEGORIES:Dienst
ATTACH;FMTTYPE=image/jpeg:https://ff-grossgroenau.de/wp-content/uploads/2023/09/22-11-12-Wehr-a.jpg
END:VEVENT
END:VCALENDAR