BEGIN:VCALENDAR
VERSION:2.0
PRODID:-//Freiwilige Feuerwehr Groß Grönau - ECPv6.15.20//NONSGML v1.0//EN
CALSCALE:GREGORIAN
METHOD:PUBLISH
X-ORIGINAL-URL:https://ff-grossgroenau.de
X-WR-CALDESC:Veranstaltungen für Freiwilige Feuerwehr Groß Grönau
REFRESH-INTERVAL;VALUE=DURATION:PT1H
X-Robots-Tag:noindex
X-PUBLISHED-TTL:PT1H
BEGIN:VTIMEZONE
TZID:Europe/Berlin
BEGIN:DAYLIGHT
TZOFFSETFROM:+0100
TZOFFSETTO:+0200
TZNAME:CEST
DTSTART:20250330T010000
END:DAYLIGHT
BEGIN:STANDARD
TZOFFSETFROM:+0200
TZOFFSETTO:+0100
TZNAME:CET
DTSTART:20251026T010000
END:STANDARD
BEGIN:DAYLIGHT
TZOFFSETFROM:+0100
TZOFFSETTO:+0200
TZNAME:CEST
DTSTART:20260329T010000
END:DAYLIGHT
BEGIN:STANDARD
TZOFFSETFROM:+0200
TZOFFSETTO:+0100
TZNAME:CET
DTSTART:20261025T010000
END:STANDARD
BEGIN:DAYLIGHT
TZOFFSETFROM:+0100
TZOFFSETTO:+0200
TZNAME:CEST
DTSTART:20270328T010000
END:DAYLIGHT
BEGIN:STANDARD
TZOFFSETFROM:+0200
TZOFFSETTO:+0100
TZNAME:CET
DTSTART:20271031T010000
END:STANDARD
END:VTIMEZONE
BEGIN:VEVENT
DTSTART;TZID=Europe/Berlin:20260302T200000
DTEND;TZID=Europe/Berlin:20260302T220000
DTSTAMP:20260420T160728
CREATED:20260201T170957Z
LAST-MODIFIED:20260222T090423Z
UID:2234-1772481600-1772488800@ff-grossgroenau.de
SUMMARY:Ausbildungs-/ Übungsabend
DESCRIPTION:
URL:https://ff-grossgroenau.de/termin/ausbildungs-uebungsabend-57/
CATEGORIES:Dienst
ATTACH;FMTTYPE=image/jpeg:https://ff-grossgroenau.de/wp-content/uploads/2023/09/22-11-12-Wehr-a.jpg
END:VEVENT
BEGIN:VEVENT
DTSTART;TZID=Europe/Berlin:20260309T193000
DTEND;TZID=Europe/Berlin:20260309T220000
DTSTAMP:20260420T160728
CREATED:20260201T170957Z
LAST-MODIFIED:20260222T090448Z
UID:2235-1773084600-1773093600@ff-grossgroenau.de
SUMMARY:Ausbildung ELW
DESCRIPTION:
URL:https://ff-grossgroenau.de/termin/ausbildung-elw-6/
CATEGORIES:Sonderdienst
ATTACH;FMTTYPE=image/jpeg:https://ff-grossgroenau.de/wp-content/uploads/2023/09/22-11-12-Wehr-a.jpg
END:VEVENT
BEGIN:VEVENT
DTSTART;TZID=Europe/Berlin:20260316T200000
DTEND;TZID=Europe/Berlin:20260316T220000
DTSTAMP:20260420T160728
CREATED:20260201T170958Z
LAST-MODIFIED:20260222T090521Z
UID:2236-1773691200-1773698400@ff-grossgroenau.de
SUMMARY:Ausbildungs-/ Übungsabend
DESCRIPTION:
URL:https://ff-grossgroenau.de/termin/ausbildungs-uebungsabend-58/
CATEGORIES:Dienst
ATTACH;FMTTYPE=image/jpeg:https://ff-grossgroenau.de/wp-content/uploads/2023/09/22-11-12-Wehr-a.jpg
END:VEVENT
BEGIN:VEVENT
DTSTART;TZID=Europe/Berlin:20260330T200000
DTEND;TZID=Europe/Berlin:20260330T220000
DTSTAMP:20260420T160728
CREATED:20260201T170958Z
LAST-MODIFIED:20260222T090557Z
UID:2237-1774900800-1774908000@ff-grossgroenau.de
SUMMARY:Ausbildungs-/ Übungsabend
DESCRIPTION:
URL:https://ff-grossgroenau.de/termin/ausbildungs-uebungsabend-59/
CATEGORIES:Dienst
ATTACH;FMTTYPE=image/jpeg:https://ff-grossgroenau.de/wp-content/uploads/2023/09/22-11-12-Wehr-a.jpg
END:VEVENT
END:VCALENDAR