BEGIN:VCALENDAR
VERSION:2.0
PRODID:-//Freiwilige Feuerwehr Groß Grönau - ECPv6.15.20//NONSGML v1.0//EN
CALSCALE:GREGORIAN
METHOD:PUBLISH
X-WR-CALNAME:Freiwilige Feuerwehr Groß Grönau
X-ORIGINAL-URL:https://ff-grossgroenau.de
X-WR-CALDESC:Veranstaltungen für Freiwilige Feuerwehr Groß Grönau
REFRESH-INTERVAL;VALUE=DURATION:PT1H
X-Robots-Tag:noindex
X-PUBLISHED-TTL:PT1H
BEGIN:VTIMEZONE
TZID:Europe/Berlin
BEGIN:DAYLIGHT
TZOFFSETFROM:+0100
TZOFFSETTO:+0200
TZNAME:CEST
DTSTART:20250330T010000
END:DAYLIGHT
BEGIN:STANDARD
TZOFFSETFROM:+0200
TZOFFSETTO:+0100
TZNAME:CET
DTSTART:20251026T010000
END:STANDARD
BEGIN:DAYLIGHT
TZOFFSETFROM:+0100
TZOFFSETTO:+0200
TZNAME:CEST
DTSTART:20260329T010000
END:DAYLIGHT
BEGIN:STANDARD
TZOFFSETFROM:+0200
TZOFFSETTO:+0100
TZNAME:CET
DTSTART:20261025T010000
END:STANDARD
BEGIN:DAYLIGHT
TZOFFSETFROM:+0100
TZOFFSETTO:+0200
TZNAME:CEST
DTSTART:20270328T010000
END:DAYLIGHT
BEGIN:STANDARD
TZOFFSETFROM:+0200
TZOFFSETTO:+0100
TZNAME:CET
DTSTART:20271031T010000
END:STANDARD
END:VTIMEZONE
BEGIN:VEVENT
DTSTART;TZID=Europe/Berlin:20260912T120000
DTEND;TZID=Europe/Berlin:20260912T180000
DTSTAMP:20260420T114551
CREATED:20260202T202914Z
LAST-MODIFIED:20260202T202949Z
UID:2405-1789214400-1789236000@ff-grossgroenau.de
SUMMARY:Sommerfest
DESCRIPTION:
URL:https://ff-grossgroenau.de/termin/sommerfest/
CATEGORIES:Veranstaltung
ATTACH;FMTTYPE=image/jpeg:https://ff-grossgroenau.de/wp-content/uploads/2023/09/22-11-12-Wehr-a.jpg
END:VEVENT
BEGIN:VEVENT
DTSTART;TZID=Europe/Berlin:20260914T193000
DTEND;TZID=Europe/Berlin:20260914T220000
DTSTAMP:20260420T114551
CREATED:20260201T171027Z
LAST-MODIFIED:20260222T091304Z
UID:2250-1789414200-1789423200@ff-grossgroenau.de
SUMMARY:Ausbildungs-/ Übungsabend
DESCRIPTION:
URL:https://ff-grossgroenau.de/termin/ausbildungs-uebungsabend-70/
CATEGORIES:Dienst
ATTACH;FMTTYPE=image/jpeg:https://ff-grossgroenau.de/wp-content/uploads/2023/09/22-11-12-Wehr-a.jpg
END:VEVENT
BEGIN:VEVENT
DTSTART;TZID=Europe/Berlin:20260928T200000
DTEND;TZID=Europe/Berlin:20260928T220000
DTSTAMP:20260420T114551
CREATED:20260201T171027Z
LAST-MODIFIED:20260222T091343Z
UID:2251-1790625600-1790632800@ff-grossgroenau.de
SUMMARY:Ausbildungs-/ Übungsabend
DESCRIPTION:
URL:https://ff-grossgroenau.de/termin/ausbildungs-uebungsabend-71/
CATEGORIES:Dienst
ATTACH;FMTTYPE=image/jpeg:https://ff-grossgroenau.de/wp-content/uploads/2023/09/22-11-12-Wehr-a.jpg
END:VEVENT
END:VCALENDAR