BEGIN:VCALENDAR
VERSION:2.0
PRODID:-//Freiwilige Feuerwehr Groß Grönau - ECPv6.15.20//NONSGML v1.0//EN
CALSCALE:GREGORIAN
METHOD:PUBLISH
X-WR-CALNAME:Freiwilige Feuerwehr Groß Grönau
X-ORIGINAL-URL:https://ff-grossgroenau.de
X-WR-CALDESC:Veranstaltungen für Freiwilige Feuerwehr Groß Grönau
REFRESH-INTERVAL;VALUE=DURATION:PT1H
X-Robots-Tag:noindex
X-PUBLISHED-TTL:PT1H
BEGIN:VTIMEZONE
TZID:Europe/Berlin
BEGIN:DAYLIGHT
TZOFFSETFROM:+0100
TZOFFSETTO:+0200
TZNAME:CEST
DTSTART:20220327T010000
END:DAYLIGHT
BEGIN:STANDARD
TZOFFSETFROM:+0200
TZOFFSETTO:+0100
TZNAME:CET
DTSTART:20221030T010000
END:STANDARD
BEGIN:DAYLIGHT
TZOFFSETFROM:+0100
TZOFFSETTO:+0200
TZNAME:CEST
DTSTART:20230326T010000
END:DAYLIGHT
BEGIN:STANDARD
TZOFFSETFROM:+0200
TZOFFSETTO:+0100
TZNAME:CET
DTSTART:20231029T010000
END:STANDARD
BEGIN:DAYLIGHT
TZOFFSETFROM:+0100
TZOFFSETTO:+0200
TZNAME:CEST
DTSTART:20240331T010000
END:DAYLIGHT
BEGIN:STANDARD
TZOFFSETFROM:+0200
TZOFFSETTO:+0100
TZNAME:CET
DTSTART:20241027T010000
END:STANDARD
END:VTIMEZONE
BEGIN:VEVENT
DTSTART;TZID=Europe/Berlin:20230904T173000
DTEND;TZID=Europe/Berlin:20230904T193000
DTSTAMP:20260424T003309
CREATED:20230927T163356Z
LAST-MODIFIED:20230927T163356Z
UID:646-1693848600-1693855800@ff-grossgroenau.de
SUMMARY:Jugendfeuerwehr Ausbildung
DESCRIPTION:
URL:https://ff-grossgroenau.de/termin/jugendfeuerwehr-ausbildung-9/
LOCATION:Feuerwehrhaus Groß Grönau\, Am Born 2\, Groß Grönau\, Schleswig-Holstein\, 23627\, Deutschland
CATEGORIES:Dienst
ATTACH;FMTTYPE=image/jpeg:https://ff-grossgroenau.de/wp-content/uploads/2023/09/22-11-12-Wehr-a.jpg
END:VEVENT
BEGIN:VEVENT
DTSTART;TZID=Europe/Berlin:20230916T100000
DTEND;TZID=Europe/Berlin:20230916T160000
DTSTAMP:20260424T003309
CREATED:20230927T164141Z
LAST-MODIFIED:20250121T201948Z
UID:656-1694858400-1694880000@ff-grossgroenau.de
SUMMARY:Jugend-Rallye
DESCRIPTION:
URL:https://ff-grossgroenau.de/termin/jugend-rallye/
LOCATION:Feuerwehrhaus Groß Grönau\, Am Born 2\, Groß Grönau\, Schleswig-Holstein\, 23627\, Deutschland
CATEGORIES:Veranstaltung,Wettkampf
ATTACH;FMTTYPE=image/jpeg:https://ff-grossgroenau.de/wp-content/uploads/2023/09/22-11-12-Wehr-a.jpg
END:VEVENT
BEGIN:VEVENT
DTSTART;TZID=Europe/Berlin:20230918T173000
DTEND;TZID=Europe/Berlin:20230918T193000
DTSTAMP:20260424T003309
CREATED:20230927T164141Z
LAST-MODIFIED:20230927T164141Z
UID:657-1695058200-1695065400@ff-grossgroenau.de
SUMMARY:Jugendfeuerwehr Ausbildung
DESCRIPTION:
URL:https://ff-grossgroenau.de/termin/jugendfeuerwehr-ausbildung-14/
LOCATION:Feuerwehrhaus Groß Grönau\, Am Born 2\, Groß Grönau\, Schleswig-Holstein\, 23627\, Deutschland
CATEGORIES:Dienst
ATTACH;FMTTYPE=image/jpeg:https://ff-grossgroenau.de/wp-content/uploads/2023/09/22-11-12-Wehr-a.jpg
END:VEVENT
END:VCALENDAR