BEGIN:VCALENDAR
VERSION:2.0
PRODID:-//Freiwilige Feuerwehr Groß Grönau - ECPv6.15.20//NONSGML v1.0//EN
CALSCALE:GREGORIAN
METHOD:PUBLISH
X-ORIGINAL-URL:https://ff-grossgroenau.de
X-WR-CALDESC:Veranstaltungen für Freiwilige Feuerwehr Groß Grönau
REFRESH-INTERVAL;VALUE=DURATION:PT1H
X-Robots-Tag:noindex
X-PUBLISHED-TTL:PT1H
BEGIN:VTIMEZONE
TZID:Europe/Berlin
BEGIN:DAYLIGHT
TZOFFSETFROM:+0100
TZOFFSETTO:+0200
TZNAME:CEST
DTSTART:20240331T010000
END:DAYLIGHT
BEGIN:STANDARD
TZOFFSETFROM:+0200
TZOFFSETTO:+0100
TZNAME:CET
DTSTART:20241027T010000
END:STANDARD
BEGIN:DAYLIGHT
TZOFFSETFROM:+0100
TZOFFSETTO:+0200
TZNAME:CEST
DTSTART:20250330T010000
END:DAYLIGHT
BEGIN:STANDARD
TZOFFSETFROM:+0200
TZOFFSETTO:+0100
TZNAME:CET
DTSTART:20251026T010000
END:STANDARD
BEGIN:DAYLIGHT
TZOFFSETFROM:+0100
TZOFFSETTO:+0200
TZNAME:CEST
DTSTART:20260329T010000
END:DAYLIGHT
BEGIN:STANDARD
TZOFFSETFROM:+0200
TZOFFSETTO:+0100
TZNAME:CET
DTSTART:20261025T010000
END:STANDARD
END:VTIMEZONE
BEGIN:VEVENT
DTSTART;TZID=Europe/Berlin:20250106T173000
DTEND;TZID=Europe/Berlin:20250106T190000
DTSTAMP:20260423T010910
CREATED:20240725T134209Z
LAST-MODIFIED:20240725T134500Z
UID:953-1736184600-1736190000@ff-grossgroenau.de
SUMMARY:Jugendfeuerwehr Dienst
DESCRIPTION:
URL:https://ff-grossgroenau.de/termin/jugendfeuerwehr-dienst-12/
CATEGORIES:Dienst
ATTACH;FMTTYPE=image/jpeg:https://ff-grossgroenau.de/wp-content/uploads/2023/09/22-11-12-Wehr-a.jpg
END:VEVENT
BEGIN:VEVENT
DTSTART;TZID=Europe/Berlin:20250118T140000
DTEND;TZID=Europe/Berlin:20250118T180000
DTSTAMP:20260423T010910
CREATED:20250111T104000Z
LAST-MODIFIED:20250113T112525Z
UID:1795-1737208800-1737223200@ff-grossgroenau.de
SUMMARY:Besuch der Berufsfeuerwehr Lübeck Wache 1
DESCRIPTION:
URL:https://ff-grossgroenau.de/termin/besuch-der-berufsfeuerwehr-luebeck-wache-1/
CATEGORIES:Sonderdienst
ATTACH;FMTTYPE=image/jpeg:https://ff-grossgroenau.de/wp-content/uploads/2023/09/22-11-12-Wehr-a.jpg
END:VEVENT
BEGIN:VEVENT
DTSTART;TZID=Europe/Berlin:20250120T173000
DTEND;TZID=Europe/Berlin:20250120T190000
DTSTAMP:20260423T010910
CREATED:20240725T134240Z
LAST-MODIFIED:20240725T134513Z
UID:955-1737394200-1737399600@ff-grossgroenau.de
SUMMARY:Jugendversammlung
DESCRIPTION:
URL:https://ff-grossgroenau.de/termin/jugendversammlung-3/
CATEGORIES:Dienst,Veranstaltung
ATTACH;FMTTYPE=image/jpeg:https://ff-grossgroenau.de/wp-content/uploads/2023/09/22-11-12-Wehr-a.jpg
END:VEVENT
END:VCALENDAR