BEGIN:VCALENDAR
VERSION:2.0
PRODID:-//Freiwilige Feuerwehr Groß Grönau - ECPv6.15.20//NONSGML v1.0//EN
CALSCALE:GREGORIAN
METHOD:PUBLISH
X-ORIGINAL-URL:https://ff-grossgroenau.de
X-WR-CALDESC:Veranstaltungen für Freiwilige Feuerwehr Groß Grönau
REFRESH-INTERVAL;VALUE=DURATION:PT1H
X-Robots-Tag:noindex
X-PUBLISHED-TTL:PT1H
BEGIN:VTIMEZONE
TZID:Europe/Berlin
BEGIN:DAYLIGHT
TZOFFSETFROM:+0100
TZOFFSETTO:+0200
TZNAME:CEST
DTSTART:20250330T010000
END:DAYLIGHT
BEGIN:STANDARD
TZOFFSETFROM:+0200
TZOFFSETTO:+0100
TZNAME:CET
DTSTART:20251026T010000
END:STANDARD
BEGIN:DAYLIGHT
TZOFFSETFROM:+0100
TZOFFSETTO:+0200
TZNAME:CEST
DTSTART:20260329T010000
END:DAYLIGHT
BEGIN:STANDARD
TZOFFSETFROM:+0200
TZOFFSETTO:+0100
TZNAME:CET
DTSTART:20261025T010000
END:STANDARD
BEGIN:DAYLIGHT
TZOFFSETFROM:+0100
TZOFFSETTO:+0200
TZNAME:CEST
DTSTART:20270328T010000
END:DAYLIGHT
BEGIN:STANDARD
TZOFFSETFROM:+0200
TZOFFSETTO:+0100
TZNAME:CET
DTSTART:20271031T010000
END:STANDARD
END:VTIMEZONE
BEGIN:VEVENT
DTSTART;TZID=Europe/Berlin:20260803T173000
DTEND;TZID=Europe/Berlin:20260803T191500
DTSTAMP:20260420T144107
CREATED:20260201T172940Z
LAST-MODIFIED:20260222T091043Z
UID:2332-1785778200-1785784500@ff-grossgroenau.de
SUMMARY:Jugendfeuerwehr Dienst
DESCRIPTION:
URL:https://ff-grossgroenau.de/termin/jugendfeuerwehr-dienst-89/
CATEGORIES:Dienst
ATTACH;FMTTYPE=image/jpeg:https://ff-grossgroenau.de/wp-content/uploads/2023/09/22-11-12-Wehr-a.jpg
END:VEVENT
BEGIN:VEVENT
DTSTART;TZID=Europe/Berlin:20260810T173000
DTEND;TZID=Europe/Berlin:20260810T191500
DTSTAMP:20260420T144107
CREATED:20260201T172953Z
LAST-MODIFIED:20260222T091105Z
UID:2333-1786383000-1786389300@ff-grossgroenau.de
SUMMARY:Jugendfeuerwehr Dienst
DESCRIPTION:
URL:https://ff-grossgroenau.de/termin/jugendfeuerwehr-dienst-90/
CATEGORIES:Dienst
ATTACH;FMTTYPE=image/jpeg:https://ff-grossgroenau.de/wp-content/uploads/2023/09/22-11-12-Wehr-a.jpg
END:VEVENT
BEGIN:VEVENT
DTSTART;TZID=Europe/Berlin:20260817T173000
DTEND;TZID=Europe/Berlin:20260817T191500
DTSTAMP:20260420T144107
CREATED:20260201T172954Z
LAST-MODIFIED:20260222T091115Z
UID:2334-1786987800-1786994100@ff-grossgroenau.de
SUMMARY:Jugendfeuerwehr Dienst
DESCRIPTION:
URL:https://ff-grossgroenau.de/termin/jugendfeuerwehr-dienst-91/
CATEGORIES:Dienst
ATTACH;FMTTYPE=image/jpeg:https://ff-grossgroenau.de/wp-content/uploads/2023/09/22-11-12-Wehr-a.jpg
END:VEVENT
BEGIN:VEVENT
DTSTART;TZID=Europe/Berlin:20260824T173000
DTEND;TZID=Europe/Berlin:20260824T191500
DTSTAMP:20260420T144107
CREATED:20260201T172954Z
LAST-MODIFIED:20260222T091138Z
UID:2335-1787592600-1787598900@ff-grossgroenau.de
SUMMARY:Jugendfeuerwehr Dienst
DESCRIPTION:
URL:https://ff-grossgroenau.de/termin/jugendfeuerwehr-dienst-92/
CATEGORIES:Dienst
ATTACH;FMTTYPE=image/jpeg:https://ff-grossgroenau.de/wp-content/uploads/2023/09/22-11-12-Wehr-a.jpg
END:VEVENT
BEGIN:VEVENT
DTSTART;TZID=Europe/Berlin:20260831T173000
DTEND;TZID=Europe/Berlin:20260831T191500
DTSTAMP:20260420T144107
CREATED:20260201T172955Z
LAST-MODIFIED:20260222T091208Z
UID:2336-1788197400-1788203700@ff-grossgroenau.de
SUMMARY:Jugendfeuerwehr Dienst
DESCRIPTION:
URL:https://ff-grossgroenau.de/termin/jugendfeuerwehr-dienst-93/
CATEGORIES:Dienst
ATTACH;FMTTYPE=image/jpeg:https://ff-grossgroenau.de/wp-content/uploads/2023/09/22-11-12-Wehr-a.jpg
END:VEVENT
END:VCALENDAR